Workbook

Sheet Wochenplan
A1: Wochenplan / Personaleinsatzplan
A2: Mitarbeiter × Tage mit Baustelle, Stunden und Fahrzeug · Auswertung je Baustelle und Fahrzeug · Gelb hinterlegte Felder ausfüllen
A5: Woche ab Montag | B5: 46328 | C5: Kalenderwoche | D5: =IF(B5="","","KW "&ISOWEEKNUM(B5)) | F5: Betrieb | H5: Weber Elektro GmbH | N5: Erstellt von
A6: =IF(B5="","",IF(WEEKDAY(B5,2)<>1,"Hinweis: Das Datum ist kein Montag – die Tage werden trotzdem ab diesem Datum gezählt.",""))
A8: Tag → | D8: =IF($B$5="","Montag",$B$5+0) | F8: =IF($B$5="","Dienstag",$B$5+1) | H8: =IF($B$5="","Mittwoch",$B$5+2) | J8: =IF($B$5="","Donnerstag",$B$5+3) | L8: =IF($B$5="","Freitag",$B$5+4) | N8: =IF($B$5="","Samstag",$B$5+5) | P8: Woche
A9: Mitarbeiter | B9: Funktion | C9: Fahrzeug | D9: Baustelle / Einsatz | E9: Std. | F9: Baustelle / Einsatz | G9: Std. | H9: Baustelle / Einsatz | I9: Std. | J9: Baustelle / Einsatz | K9: Std. | L9: Baustelle / Einsatz | M9: Std. | N9: Baustelle / Einsatz | O9: Std. | P9: Summe Std. | Q9: Soll Std. | R9: Differenz
A10: Jan Weber | B10: Meister | C10: Crafter HB-WE 211 (Doppelkabine) | D10: MFH Lindenstraße 12 | E10: 9 | F10: MFH Lindenstraße 12 | G10: 9 | H10: MFH Lindenstraße 12 | I10: 9 | J10: MFH Lindenstraße 12 | K10: 9 | L10: MFH Lindenstraße 12 | M10: 6 | P10: =IF(COUNT(E10,G10,I10,K10,M10,O10)=0,"",SUM(E10,G10,I10,K10,M10,O10)) | Q10: 40 | R10: =IF(OR(P10="",Q10=""),"",P10-Q10)
A11: Murat Demir | B11: Geselle | C11: Crafter HB-WE 211 (Doppelkabine) | D11: MFH Lindenstraße 12 | E11: 9 | F11: MFH Lindenstraße 12 | G11: 9 | H11: MFH Lindenstraße 12 | I11: 9 | J11: MFH Lindenstraße 12 | K11: 9 | L11: MFH Lindenstraße 12 | M11: 6 | P11: =IF(COUNT(E11,G11,I11,K11,M11,O11)=0,"",SUM(E11,G11,I11,K11,M11,O11)) | Q11: 40 | R11: =IF(OR(P11="",Q11=""),"",P11-Q11)
A12: Lukas Brandt | B12: Geselle | C12: Crafter HB-WE 211 (Doppelkabine) | D12: MFH Lindenstraße 12 | E12: 9 | F12: MFH Lindenstraße 12 | G12: 9 | H12: Kita Sonnenhof | I12: 8 | J12: Kita Sonnenhof | K12: 8 | L12: Kita Sonnenhof | M12: 6 | P12: =IF(COUNT(E12,G12,I12,K12,M12,O12)=0,"",SUM(E12,G12,I12,K12,M12,O12)) | Q12: 40 | R12: =IF(OR(P12="",Q12=""),"",P12-Q12)
A13: Piotr Nowak | B13: Geselle | C13: Sprinter HB-WE 210 | D13: EFH Becker | E13: 8.5 | F13: EFH Becker | G13: 8.5 | H13: EFH Becker | I13: 8.5 | J13: EFH Becker | K13: 8.5 | L13: EFH Becker | M13: 6 | P13: =IF(COUNT(E13,G13,I13,K13,M13,O13)=0,"",SUM(E13,G13,I13,K13,M13,O13)) | Q13: 40 | R13: =IF(OR(P13="",Q13=""),"",P13-Q13)
A14: Tim Schröder | B14: Auszubildender | C14: Sprinter HB-WE 210 | D14: EFH Becker | E14: 8 | F14: EFH Becker | G14: 8 | H14: Berufsschule | I14: 8 | J14: EFH Becker | K14: 8 | L14: EFH Becker | M14: 6 | P14: =IF(COUNT(E14,G14,I14,K14,M14,O14)=0,"",SUM(E14,G14,I14,K14,M14,O14)) | Q14: 38 | R14: =IF(OR(P14="",Q14=""),"",P14-Q14)
A15: Sven Ahrens | B15: Monteur Kundendienst | C15: Caddy HB-WE 12 | D15: Kita Sonnenhof | E15: 8 | F15: Kita Sonnenhof | G15: 8 | H15: MFH Lindenstraße 12 | I15: 8 | J15: MFH Lindenstraße 12 | K15: 8 | L15: Werkstatt / Lager | M15: 6 | P15: =IF(COUNT(E15,G15,I15,K15,M15,O15)=0,"",SUM(E15,G15,I15,K15,M15,O15)) | Q15: 40 | R15: =IF(OR(P15="",Q15=""),"",P15-Q15)
A16: Ali Kaya | B16: Helfer | C16: Crafter HB-WE 211 (Doppelkabine) | D16: Urlaub | E16: 8 | F16: Urlaub | G16: 8 | H16: Urlaub | I16: 8 | J16: Urlaub | K16: 8 | L16: Urlaub | M16: 6 | P16: =IF(COUNT(E16,G16,I16,K16,M16,O16)=0,"",SUM(E16,G16,I16,K16,M16,O16)) | Q16: 40 | R16: =IF(OR(P16="",Q16=""),"",P16-Q16)
A17: Nico Hartmann | B17: Geselle | C17: Crafter HB-WE 211 (Doppelkabine) | D17: krank | E17: 8 | F17: MFH Lindenstraße 12 | G17: 9 | H17: MFH Lindenstraße 12 | I17: 9 | J17: MFH Lindenstraße 12 | K17: 9 | L17: MFH Lindenstraße 12 | M17: 6 | P17: =IF(COUNT(E17,G17,I17,K17,M17,O17)=0,"",SUM(E17,G17,I17,K17,M17,O17)) | Q17: 40 | R17: =IF(OR(P17="",Q17=""),"",P17-Q17)
P18: =IF(COUNT(E18,G18,I18,K18,M18,O18)=0,"",SUM(E18,G18,I18,K18,M18,O18)) | R18: =IF(OR(P18="",Q18=""),"",P18-Q18)
P19: =IF(COUNT(E19,G19,I19,K19,M19,O19)=0,"",SUM(E19,G19,I19,K19,M19,O19)) | R19: =IF(OR(P19="",Q19=""),"",P19-Q19)
P20: =IF(COUNT(E20,G20,I20,K20,M20,O20)=0,"",SUM(E20,G20,I20,K20,M20,O20)) | R20: =IF(OR(P20="",Q20=""),"",P20-Q20)
P21: =IF(COUNT(E21,G21,I21,K21,M21,O21)=0,"",SUM(E21,G21,I21,K21,M21,O21)) | R21: =IF(OR(P21="",Q21=""),"",P21-Q21)
P22: =IF(COUNT(E22,G22,I22,K22,M22,O22)=0,"",SUM(E22,G22,I22,K22,M22,O22)) | R22: =IF(OR(P22="",Q22=""),"",P22-Q22)
P23: =IF(COUNT(E23,G23,I23,K23,M23,O23)=0,"",SUM(E23,G23,I23,K23,M23,O23)) | R23: =IF(OR(P23="",Q23=""),"",P23-Q23)
P24: =IF(COUNT(E24,G24,I24,K24,M24,O24)=0,"",SUM(E24,G24,I24,K24,M24,O24)) | R24: =IF(OR(P24="",Q24=""),"",P24-Q24)
P25: =IF(COUNT(E25,G25,I25,K25,M25,O25)=0,"",SUM(E25,G25,I25,K25,M25,O25)) | R25: =IF(OR(P25="",Q25=""),"",P25-Q25)
P26: =IF(COUNT(E26,G26,I26,K26,M26,O26)=0,"",SUM(E26,G26,I26,K26,M26,O26)) | R26: =IF(OR(P26="",Q26=""),"",P26-Q26)
P27: =IF(COUNT(E27,G27,I27,K27,M27,O27)=0,"",SUM(E27,G27,I27,K27,M27,O27)) | R27: =IF(OR(P27="",Q27=""),"",P27-Q27)
P28: =IF(COUNT(E28,G28,I28,K28,M28,O28)=0,"",SUM(E28,G28,I28,K28,M28,O28)) | R28: =IF(OR(P28="",Q28=""),"",P28-Q28)
P29: =IF(COUNT(E29,G29,I29,K29,M29,O29)=0,"",SUM(E29,G29,I29,K29,M29,O29)) | R29: =IF(OR(P29="",Q29=""),"",P29-Q29)
... P34: =IF(COUNT(E34,G34,I34,K34,M34,O34)=0,"",SUM(E34,G34,I34,K34,M34,O34)) | R34: =IF(OR(P34="",Q34=""),"",P34-Q34)
A35: Stunden je Tag | E35: =SUM(E10:E34) | G35: =SUM(G10:G34) | I35: =SUM(I10:I34) | K35: =SUM(K10:K34) | M35: =SUM(M10:M34) | O35: =SUM(O10:O34) | P35: =SUM(P10:P34) | Q35: =SUM(Q10:Q34)
A36: Personen im Einsatz (ohne Urlaub, krank, Schule, frei) | D36: =COUNTA(D10:D34)-COUNTIF(D10:D34,Stammdaten!$A$22)-COUNTIF(D10:D34,Stammdaten!$A$23)-COUNTIF(D10:D34,Stammdaten!$A$24)-COUNTIF(D10:D34,Stammdaten!$A$25) | F36: =COUNTA(F10:F34)-COUNTIF(F10:F34,Stammdaten!$A$22)-COUNTIF(F10:F34,Stammdaten!$A$23)-COUNTIF(F10:F34,Stammdaten!$A$24)-COUNTIF(F10:F34,Stammdaten!$A$25) | H36: =COUNTA(H10:H34)-COUNTIF(H10:H34,Stammdaten!$A$22)-COUNTIF(H10:H34,Stammdaten!$A$23)-COUNTIF(H10:H34,Stammdaten!$A$24)-COUNTIF(H10:H34,Stammdaten!$A$25) | J36: =COUNTA(J10:J34)-COUNTIF(J10:J34,Stammdaten!$A$22)-COUNTIF(J10:J34,Stammdaten!$A$23)-COUNTIF(J10:J34,Stammdaten!$A$24)-COUNTIF(J10:J34,Stammdaten!$A$25) | L36: =COUNTA(L10:L34)-COUNTIF(L10:L34,Stammdaten!$A$22)-COUNTIF(L10:L34,Stammdaten!$A$23)-COUNTIF(L10:L34,Stammdaten!$A$24)-COUNTIF(L10:L34,Stammdaten!$A$25) | N36: =COUNTA(N10:N34)-COUNTIF(N10:N34,Stammdaten!$A$22)-COUNTIF(N10:N34,Stammdaten!$A$23)-COUNTIF(N10:N34,Stammdaten!$A$24)-COUNTIF(N10:N34,Stammdaten!$A$25)
A38: Einsatz je Baustelle (Personen und Stunden je Tag)
A39: Baustelle / Einsatzort | D39: Personen | E39: Std. | F39: Personen | G39: Std. | H39: Personen | I39: Std. | J39: Personen | K39: Std. | L39: Personen | M39: Std. | N39: Personen | O39: Std. | P39: Std. Woche | Q39: Personen-tage
A40: =IF(Stammdaten!$A$6="","",Stammdaten!$A$6) | D40: =IF($A40="","",COUNTIF(D$10:D$34,$A40)) | E40: =IF($A40="","",SUMIF(D$10:D$34,$A40,E$10:E$34)) | F40: =IF($A40="","",COUNTIF(F$10:F$34,$A40)) | G40: =IF($A40="","",SUMIF(F$10:F$34,$A40,G$10:G$34)) | H40: =IF($A40="","",COUNTIF(H$10:H$34,$A40)) | I40: =IF($A40="","",SUMIF(H$10:H$34,$A40,I$10:I$34)) | J40: =IF($A40="","",COUNTIF(J$10:J$34,$A40)) | K40: =IF($A40="","",SUMIF(J$10:J$34,$A40,K$10:K$34)) | L40: =IF($A40="","",COUNTIF(L$10:L$34,$A40)) | M40: =IF($A40="","",SUMIF(L$10:L$34,$A40,M$10:M$34)) | N40: =IF($A40="","",COUNTIF(N$10:N$34,$A40)) | O40: =IF($A40="","",SUMIF(N$10:N$34,$A40,O$10:O$34)) | P40: =IF($A40="","",SUM(E40,G40,I40,K40,M40,O40)) | Q40: =IF($A40="","",SUM(D40,F40,H40,J40,L40,N40))
A41: =IF(Stammdaten!$A$7="","",Stammdaten!$A$7) | D41: =IF($A41="","",COUNTIF(D$10:D$34,$A41)) | E41: =IF($A41="","",SUMIF(D$10:D$34,$A41,E$10:E$34)) | F41: =IF($A41="","",COUNTIF(F$10:F$34,$A41)) | G41: =IF($A41="","",SUMIF(F$10:F$34,$A41,G$10:G$34)) | H41: =IF($A41="","",COUNTIF(H$10:H$34,$A41)) | I41: =IF($A41="","",SUMIF(H$10:H$34,$A41,I$10:I$34)) | J41: =IF($A41="","",COUNTIF(J$10:J$34,$A41)) | K41: =IF($A41="","",SUMIF(J$10:J$34,$A41,K$10:K$34)) | L41: =IF($A41="","",COUNTIF(L$10:L$34,$A41)) | M41: =IF($A41="","",SUMIF(L$10:L$34,$A41,M$10:M$34)) | N41: =IF($A41="","",COUNTIF(N$10:N$34,$A41)) | O41: =IF($A41="","",SUMIF(N$10:N$34,$A41,O$10:O$34)) | P41: =IF($A41="","",SUM(E41,G41,I41,K41,M41,O41)) | Q41: =IF($A41="","",SUM(D41,F41,H41,J41,L41,N41))
A42: =IF(Stammdaten!$A$8="","",Stammdaten!$A$8) | D42: =IF($A42="","",COUNTIF(D$10:D$34,$A42)) | E42: =IF($A42="","",SUMIF(D$10:D$34,$A42,E$10:E$34)) | F42: =IF($A42="","",COUNTIF(F$10:F$34,$A42)) | G42: =IF($A42="","",SUMIF(F$10:F$34,$A42,G$10:G$34)) | H42: =IF($A42="","",COUNTIF(H$10:H$34,$A42)) | I42: =IF($A42="","",SUMIF(H$10:H$34,$A42,I$10:I$34)) | J42: =IF($A42="","",COUNTIF(J$10:J$34,$A42)) | K42: =IF($A42="","",SUMIF(J$10:J$34,$A42,K$10:K$34)) | L42: =IF($A42="","",COUNTIF(L$10:L$34,$A42)) | M42: =IF($A42="","",SUMIF(L$10:L$34,$A42,M$10:M$34)) | N42: =IF($A42="","",COUNTIF(N$10:N$34,$A42)) | O42: =IF($A42="","",SUMIF(N$10:N$34,$A42,O$10:O$34)) | P42: =IF($A42="","",SUM(E42,G42,I42,K42,M42,O42)) | Q42: =IF($A42="","",SUM(D42,F42,H42,J42,L42,N42))
A43: =IF(Stammdaten!$A$9="","",Stammdaten!$A$9) | D43: =IF($A43="","",COUNTIF(D$10:D$34,$A43)) | E43: =IF($A43="","",SUMIF(D$10:D$34,$A43,E$10:E$34)) | F43: =IF($A43="","",COUNTIF(F$10:F$34,$A43)) | G43: =IF($A43="","",SUMIF(F$10:F$34,$A43,G$10:G$34)) | H43: =IF($A43="","",COUNTIF(H$10:H$34,$A43)) | I43: =IF($A43="","",SUMIF(H$10:H$34,$A43,I$10:I$34)) | J43: =IF($A43="","",COUNTIF(J$10:J$34,$A43)) | K43: =IF($A43="","",SUMIF(J$10:J$34,$A43,K$10:K$34)) | L43: =IF($A43="","",COUNTIF(L$10:L$34,$A43)) | M43: =IF($A43="","",SUMIF(L$10:L$34,$A43,M$10:M$34)) | N43: =IF($A43="","",COUNTIF(N$10:N$34,$A43)) | O43: =IF($A43="","",SUMIF(N$10:N$34,$A43,O$10:O$34)) | P43: =IF($A43="","",SUM(E43,G43,I43,K43,M43,O43)) | Q43: =IF($A43="","",SUM(D43,F43,H43,J43,L43,N43))
A44: =IF(Stammdaten!$A$10="","",Stammdaten!$A$10) | D44: =IF($A44="","",COUNTIF(D$10:D$34,$A44)) | E44: =IF($A44="","",SUMIF(D$10:D$34,$A44,E$10:E$34)) | F44: =IF($A44="","",COUNTIF(F$10:F$34,$A44)) | G44: =IF($A44="","",SUMIF(F$10:F$34,$A44,G$10:G$34)) | H44: =IF($A44="","",COUNTIF(H$10:H$34,$A44)) | I44: =IF($A44="","",SUMIF(H$10:H$34,$A44,I$10:I$34)) | J44: =IF($A44="","",COUNTIF(J$10:J$34,$A44)) | K44: =IF($A44="","",SUMIF(J$10:J$34,$A44,K$10:K$34)) | L44: =IF($A44="","",COUNTIF(L$10:L$34,$A44)) | M44: =IF($A44="","",SUMIF(L$10:L$34,$A44,M$10:M$34)) | N44: =IF($A44="","",COUNTIF(N$10:N$34,$A44)) | O44: =IF($A44="","",SUMIF(N$10:N$34,$A44,O$10:O$34)) | P44: =IF($A44="","",SUM(E44,G44,I44,K44,M44,O44)) | Q44: =IF($A44="","",SUM(D44,F44,H44,J44,L44,N44))
A45: =IF(Stammdaten!$A$11="","",Stammdaten!$A$11) | D45: =IF($A45="","",COUNTIF(D$10:D$34,$A45)) | E45: =IF($A45="","",SUMIF(D$10:D$34,$A45,E$10:E$34)) | F45: =IF($A45="","",COUNTIF(F$10:F$34,$A45)) | G45: =IF($A45="","",SUMIF(F$10:F$34,$A45,G$10:G$34)) | H45: =IF($A45="","",COUNTIF(H$10:H$34,$A45)) | I45: =IF($A45="","",SUMIF(H$10:H$34,$A45,I$10:I$34)) | J45: =IF($A45="","",COUNTIF(J$10:J$34,$A45)) | K45: =IF($A45="","",SUMIF(J$10:J$34,$A45,K$10:K$34)) | L45: =IF($A45="","",COUNTIF(L$10:L$34,$A45)) | M45: =IF($A45="","",SUMIF(L$10:L$34,$A45,M$10:M$34)) | N45: =IF($A45="","",COUNTIF(N$10:N$34,$A45)) | O45: =IF($A45="","",SUMIF(N$10:N$34,$A45,O$10:O$34)) | P45: =IF($A45="","",SUM(E45,G45,I45,K45,M45,O45)) | Q45: =IF($A45="","",SUM(D45,F45,H45,J45,L45,N45))
A46: =IF(Stammdaten!$A$12="","",Stammdaten!$A$12) | D46: =IF($A46="","",COUNTIF(D$10:D$34,$A46)) | E46: =IF($A46="","",SUMIF(D$10:D$34,$A46,E$10:E$34)) | F46: =IF($A46="","",COUNTIF(F$10:F$34,$A46)) | G46: =IF($A46="","",SUMIF(F$10:F$34,$A46,G$10:G$34)) | H46: =IF($A46="","",COUNTIF(H$10:H$34,$A46)) | I46: =IF($A46="","",SUMIF(H$10:H$34,$A46,I$10:I$34)) | J46: =IF($A46="","",COUNTIF(J$10:J$34,$A46)) | K46: =IF($A46="","",SUMIF(J$10:J$34,$A46,K$10:K$34)) | L46: =IF($A46="","",COUNTIF(L$10:L$34,$A46)) | M46: =IF($A46="","",SUMIF(L$10:L$34,$A46,M$10:M$34)) | N46: =IF($A46="","",COUNTIF(N$10:N$34,$A46)) | O46: =IF($A46="","",SUMIF(N$10:N$34,$A46,O$10:O$34)) | P46: =IF($A46="","",SUM(E46,G46,I46,K46,M46,O46)) | Q46: =IF($A46="","",SUM(D46,F46,H46,J46,L46,N46))
A47: =IF(Stammdaten!$A$13="","",Stammdaten!$A$13) | D47: =IF($A47="","",COUNTIF(D$10:D$34,$A47)) | E47: =IF($A47="","",SUMIF(D$10:D$34,$A47,E$10:E$34)) | F47: =IF($A47="","",COUNTIF(F$10:F$34,$A47)) | G47: =IF($A47="","",SUMIF(F$10:F$34,$A47,G$10:G$34)) | H47: =IF($A47="","",COUNTIF(H$10:H$34,$A47)) | I47: =IF($A47="","",SUMIF(H$10:H$34,$A47,I$10:I$34)) | J47: =IF($A47="","",COUNTIF(J$10:J$34,$A47)) | K47: =IF($A47="","",SUMIF(J$10:J$34,$A47,K$10:K$34)) | L47: =IF($A47="","",COUNTIF(L$10:L$34,$A47)) | M47: =IF($A47="","",SUMIF(L$10:L$34,$A47,M$10:M$34)) | N47: =IF($A47="","",COUNTIF(N$10:N$34,$A47)) | O47: =IF($A47="","",SUMIF(N$10:N$34,$A47,O$10:O$34)) | P47: =IF($A47="","",SUM(E47,G47,I47,K47,M47,O47)) | Q47: =IF($A47="","",SUM(D47,F47,H47,J47,L47,N47))
A48: =IF(Stammdaten!$A$14="","",Stammdaten!$A$14) | D48: =IF($A48="","",COUNTIF(D$10:D$34,$A48)) | E48: =IF($A48="","",SUMIF(D$10:D$34,$A48,E$10:E$34)) | F48: =IF($A48="","",COUNTIF(F$10:F$34,$A48)) | G48: =IF($A48="","",SUMIF(F$10:F$34,$A48,G$10:G$34)) | H48: =IF($A48="","",COUNTIF(H$10:H$34,$A48)) | I48: =IF($A48="","",SUMIF(H$10:H$34,$A48,I$10:I$34)) | J48: =IF($A48="","",COUNTIF(J$10:J$34,$A48)) | K48: =IF($A48="","",SUMIF(J$10:J$34,$A48,K$10:K$34)) | L48: =IF($A48="","",COUNTIF(L$10:L$34,$A48)) | M48: =IF($A48="","",SUMIF(L$10:L$34,$A48,M$10:M$34)) | N48: =IF($A48="","",COUNTIF(N$10:N$34,$A48)) | O48: =IF($A48="","",SUMIF(N$10:N$34,$A48,O$10:O$34)) | P48: =IF($A48="","",SUM(E48,G48,I48,K48,M48,O48)) | Q48: =IF($A48="","",SUM(D48,F48,H48,J48,L48,N48))
...

Sheet Stammdaten
A1: Wochenplan · Stammdaten
A2: Baustellen und Fahrzeuge einmal pflegen – sie erscheinen im Wochenplan als Auswahllisten
A5: Baustelle / Einsatzort (Kurzname) | B5: Adresse | C5: Bauleitung / Ansprechpartner | D5: Telefon | E5: Arbeitsbeginn | G5: Fahrzeug / Kennzeichen | H5: Sitzplätze | I5: Bemerkung
A6: MFH Lindenstraße 12 | B6: Lindenstraße 12, 28195 Bremen | C6: Frau Krüger | D6: 0421 123456 | E6: 07:00 | G6: Sprinter HB-WE 210 | H6: 3 | I6: mit Anhänger
A7: EFH Becker | B7: Am Deich 4, 28199 Bremen | C7: Herr Becker (Bauherr) | D7: 0171 2345678 | E7: 07:30 | G7: Crafter HB-WE 211 (Doppelkabine) | H7: 6
A8: Kita Sonnenhof | B8: Parkweg 9, 28205 Bremen | C8: Herr Tamm | D8: 0421 765432 | E8: 07:00 | G8: Caddy HB-WE 12 | H8: 2 | I8: Kundendienst
A21: Werkstatt / Lager | B21: fester Eintrag – zählt als Einsatz
A22: Urlaub | B22: fester Eintrag – Abwesenheit, zählt nicht als Person im Einsatz
A23: krank | B23: fester Eintrag – Abwesenheit, zählt nicht als Person im Einsatz
A24: Berufsschule | B24: fester Eintrag – Abwesenheit, zählt nicht als Person im Einsatz
A25: frei / Zeitausgleich | B25: fester Eintrag – Abwesenheit, zählt nicht als Person im Einsatz
